BEGIN:VCALENDAR
PRODID:NingEventWidget-v1
VERSION:2.0
METHOD:PUBLISH
BEGIN:VEVENT
UID:4320450:Event:1557
DTSTAMP:20260425T161853Z
SUMMARY:ROCKSTAR Yoga Practice :: W/ Dan Wilf 5/21
DESCRIPTION:Rock out with Dan for a special extended two-hour rockstar
  vinyasa flow set to the pulsating rhythms of DJ Big Jawn who will be 
 spinning live in-studio! The sequence will be filled with an energetic
  flow of creative namaskars, enticing arm balances, deep hip openers, 
 and fun inversions. Join us as we turn the lens inward and ignite the 
 rockstar within...come start the weekend off with a bang - YOGANONYMOU
 S style!\n\nFor more information visit http://phillytodo.com/events/ro
 ckstar-yoga-practice-w-dan-1
DTSTART:20100521T221500Z
DTEND:20100522T003000Z
CATEGORIES:vinyasa, yoga, workshop
LOCATION:Dhyana Yoga West Philly - 3945 Chestnut Street
WEBSITE:
URL:
CONTACT:
ORGANIZER;CN="Dhyana Yoga":http://phillytodo.com/profile/DhyanaYoga
ATTACH;FMTTYPE="image/jpeg":http://storage.ning.com/topology/rest/1.0/
 file/get/3054949977?profile=original
ATTENDEE;ROLE=REQ-PARTICIPANT;PARTSTAT=ACCEPTED;RSVP=TRUE;CN="Dhyana Y
 oga":http://phillytodo.com/profile/DhyanaYoga
END:VEVENT
END:VCALENDAR
