BEGIN:VCALENDAR
PRODID:NingEventWidget-v1
VERSION:2.0
METHOD:PUBLISH
BEGIN:VEVENT
UID:4320450:Event:28451
DTSTAMP:20260425T175228Z
SUMMARY:Robbie Tronco’s 50th Birthday Party
DESCRIPTION:At 50 years young, Robbie Tronco has DJ-ed for over 38 yea
 rs and is dubbed a living legend, \"The Godfather of House.\" In celeb
 ration of his life-long success, we invite you to a night dedicated to
  his inspirational love of music.  Hosted by Deena Widow from ClubZon
 e.FM, this legendary event honoring a local inspiration will take plac
 e on Thursday, November 15th at Rumor in Philadelphia from 9pm-2am.\nW
 ith tribute sets played by special guest DJs:\nNigel Richards, 611 Rec
 ords Ty Edwards, aka Eddie Tully, Tull-A-Tron Music  Chris Costanzo, T
 echTribal.com and many more!  Plus, Robbie will play a set integrating
  every music generation.  \n\nFor more information visit http://phil
 lytodo.com/events/robbie-tronco-s-50th-birthday-party
DTSTART:20121116T020000Z
DTEND:20121116T070000Z
CATEGORIES:birthday, party
LOCATION:Rumor Nightclub
WEBSITE:
URL:
CONTACT:
ORGANIZER:Eddie Tully
ATTACH;FMTTYPE="image/jpeg":http://storage.ning.com/topology/rest/1.0/
 file/get/3054959061?profile=original
ATTENDEE;ROLE=REQ-PARTICIPANT;PARTSTAT=ACCEPTED;RSVP=TRUE;CN="Jill Ash
 er":http://phillytodo.com/profile/JillAsher
END:VEVENT
END:VCALENDAR
