BEGIN:VCALENDAR
PRODID:NingEventWidget-v1
VERSION:2.0
METHOD:PUBLISH
BEGIN:VEVENT
UID:4320450:Event:47224
DTSTAMP:20260425T130441Z
SUMMARY:River Days Watershed Walk
DESCRIPTION:Take a hike along one of the few intact first order stream
 s in Philadelphia and explore the life of the stream as it flows down 
 to the Schuylkill River. We’ll look at the macroinvertebrate life in
  the Schuylkill Center’s Smith Run and check out the surrounding for
 est as we hike on Ravine Loop. Learn about the history of this importa
 nt watershed as the Schuylkill Center joins 23 environmental education
  centers promoting River Days, a series of events getting us closer to
  rivers and waterways this fall. We’ll be hiking rain or shine, so d
 ress for the weather. Our Ravine Loop has a few steep stretches so you
  should be physically able to hike for an hour. Meet at the Hagy’s M
 ill Parking Lot.\n\nFor more information visit http://phillytodo.com/e
 vents/river-days-watershed-walk
DTSTART:20161015T170000Z
DTEND:20161015T180000Z
CATEGORIES:nature, walk
LOCATION:The Schuylkill Center
WEBSITE:http://www.schuylkillcenter.org/blog/event/river-days-watershe
 d-walk/
URL:http://www.schuylkillcenter.org/blog/event/river-days-watershed-wa
 lk/
CONTACT:215-482-7300
ORGANIZER;CN="The Schuylkill Center":http://phillytodo.com/profile/Ann
 aLehrMueser
ATTACH;FMTTYPE="image/jpeg":http://storage.ning.com/topology/rest/1.0/
 file/get/3054998853?profile=original
ATTENDEE;ROLE=REQ-PARTICIPANT;PARTSTAT=ACCEPTED;RSVP=TRUE;CN="The Schu
 ylkill Center":http://phillytodo.com/profile/AnnaLehrMueser
END:VEVENT
END:VCALENDAR
