BEGIN:VCALENDAR
PRODID:NingEventWidget-v1
VERSION:2.0
METHOD:PUBLISH
BEGIN:VEVENT
UID:4320450:Event:51961
DTSTAMP:20260425T125029Z
SUMMARY:River Days: Kayaking the Schuylkill River
DESCRIPTION:Manayunk’s stretch of the Schuylkill River has undergone
  extraordinary change. Once written off as almost dead, the river has 
 been ecologically reborn, and once-industrial buildings along the bank
 s are busily being repurposed for residential use.  \nAs part of the 
 regional River Days celebration, the Schuylkill Center's Executive Dir
 ector Mike Weilbacher is joined by Kay Sykora, founder of Destination
  Schuylkill River, on a kayak tour of the Schuylkill’s Manayunk wate
 rway. Paddling from the Pencoyd to Manayunk bridges, we’ll see—and
  learn the stories of—mills, locks, bridges and the canal, using old
  maps and photos to tell the story of Manayunk and its beloved river.\
 nMembers: $30 Non-members: $40\nAs kayaks are limited, registration
  is required. Register for specific location directions. This progr
 am made possible with support from the Alliance for Watershed Educatio
 n.\n\nFor more information visit http://phillytodo.com/events/river-da
 ys-kayaking-the-schuylkill-river
DTSTART:20170916T140000Z
DTEND:20170916T160000Z
CATEGORIES:community, event
LOCATION:Schuylkill River
WEBSITE:https://schuylkillcenter.pivvit.com/kayak-tour-of-the-schuylki
 ll-river
URL:https://schuylkillcenter.pivvit.com/kayak-tour-of-the-schuylkill-r
 iver
CONTACT:2154827300
ORGANIZER;CN="The Schuylkill Center":http://phillytodo.com/profile/Ann
 aLehrMueser
ATTACH;FMTTYPE="image/jpeg":http://storage.ning.com/topology/rest/1.0/
 file/get/3055004081?profile=original
ATTENDEE;ROLE=REQ-PARTICIPANT;PARTSTAT=ACCEPTED;RSVP=TRUE;CN="The Schu
 ylkill Center":http://phillytodo.com/profile/AnnaLehrMueser
END:VEVENT
END:VCALENDAR
