BEGIN:VCALENDAR
PRODID:NingEventWidget-v1
VERSION:2.0
METHOD:PUBLISH
BEGIN:VEVENT
UID:4320450:Event:31365
DTSTAMP:20260425T160112Z
SUMMARY:Ride for Pride Motorcycle Run
DESCRIPTION:Enjoy a motorcycle ride throughout South Jersey, ending on
  the pier of the Battleship New Jersey.  Experience a tour of the Bat
 tleship, a barbecue lunch on the fantail, cash bar, a chance to fire t
 he Battleship's 5-inch gun and more!  All proceeds go to support the 
 on-going restoration of our nation's most decorated battleship and to 
 help Boy Scout Troop 54.   Questions or to register, email roop54bik
 erun@gmail.com\n\nFor more information visit http://phillytodo.com/eve
 nts/ride-for-pride-motorcycle-run
DTSTART:20130428T123000Z
DTEND:20130428T180000Z
CATEGORIES:fund, raiser
LOCATION:Battleship New Jersey
WEBSITE:http://www.battleshipnewjersey,org
URL:http://www.battleshipnewjersey,org
CONTACT:866-877-6262
ORGANIZER:Battleship New Jersey and Boy Scout Troop 54
ATTACH;FMTTYPE="image/jpeg":http://storage.ning.com/topology/rest/1.0/
 file/get/3054963426?profile=original
ATTENDEE;ROLE=REQ-PARTICIPANT;PARTSTAT=ACCEPTED;RSVP=TRUE;CN="Battlesh
 ip New Jersey":http://phillytodo.com/profile/BattleshipNewJersey
END:VEVENT
END:VCALENDAR
