BEGIN:VCALENDAR
PRODID:NingEventWidget-v1
VERSION:2.0
METHOD:PUBLISH
BEGIN:VEVENT
UID:4320450:Event:56149
DTSTAMP:20260425T112748Z
SUMMARY:Ribbon-Cutting for the River Trail Gateway
DESCRIPTION:Celebrate the opening of our new connection with the Schuy
 lkill River Trail. Thanks to the William Penn Foundation’s generous 
 investment, the River Trail Gateway reveals an unparalleled and previo
 usly hidden view of Smith Run’s forested glen, includes a trailside 
 gathering area, adds a bike rack and new signage, and weaves stone, me
 tal, and landscaping together to create our new entrance on the River 
 Trail. Join us to officially dedicate this stunning connection.\nDirec
 tions: Park along Shawmont Avenue where it meets Nixon Street and wal
 k northwest up the River Trail (with the river on your left) for a hal
 f mile until you reach the gateway.\nVia google maps:\nhttps://www.go
 ogle.com/maps/dir/Nixon+St+%26+Shawmont+Ave/40.0501065,-75.257285/@40.
 0481626,-75.2538426,17z/data=!4m9!4m8!1m5!1m1!1s0x89c6bf2c92986345:0x1
 27061cbaaab7f99!2m2!1d-75.2500583!2d40.0446388!1m0!3e2\n\nFor more inf
 ormation visit http://phillytodo.com/events/ribbon-cutting-for-the-riv
 er-trail-gateway
DTSTART:20180927T150000Z
DTEND:20180927T160000Z
CATEGORIES:ribbon, cutting, trail
LOCATION:Schuylkill Center for Environmental Education
WEBSITE:http://www.schuylkillcenter.org/blog/event/ribbon-cutting-for-
 the-river-trail-gateway/
URL:http://www.schuylkillcenter.org/blog/event/ribbon-cutting-for-the-
 river-trail-gateway/
CONTACT:215-482-7300
ORGANIZER;CN="The Schuylkill Center":http://phillytodo.com/profile/Ann
 aLehrMueser
ATTACH;FMTTYPE="image/jpeg":http://storage.ning.com/topology/rest/1.0/
 file/get/3055015339?profile=original
ATTENDEE;ROLE=REQ-PARTICIPANT;PARTSTAT=ACCEPTED;RSVP=TRUE;CN="The Schu
 ylkill Center":http://phillytodo.com/profile/AnnaLehrMueser
END:VEVENT
END:VCALENDAR
