BEGIN:VCALENDAR
PRODID:NingEventWidget-v1
VERSION:2.0
METHOD:PUBLISH
BEGIN:VEVENT
UID:4320450:Event:50309
DTSTAMP:20260425T143356Z
SUMMARY:Revolutionary Weekends at Woodford Mansion: Patriot and Loyali
 st Tours
DESCRIPTION:One home, one revolution, two sides!  Step back into the 
 1700s and hear the tales of those who lived in Woodford Mansion, a his
 toric summer home in East Fairmount Park. Discover the story of the Pa
 triot George Clymer, a signatory of both the Declaration of Independen
 ce and U.S. Constitution, and learn about the Franks Family, who sided
  with the British during the British occupation of Philadelphia.Visit 
 this National Historic Landmark from 10:00 am to 4:00 pm on Fridays th
 rough Sundays in July for these special Patriot & Loyalist Tours. Exp
 erience how people lived during the American Revolution through the Na
 omi Wood Collection of period antiques and art which adorns every room
  of Woodford Mansion.Don't miss this jewel of Philadelphia history, an
 d discover how it helped shaped a city and a nation.\n\nFor more infor
 mation visit http://phillytodo.com/events/revolutionary-weekends-at-wo
 odford-mansion-patriot-and-loyalist
DTSTART:20170630T140000Z
DTEND:20170730T200000Z
CATEGORIES:tours
LOCATION:Woodford Mansion
WEBSITE:http://woodfordmansion.org
URL:http://woodfordmansion.org
CONTACT:
ORGANIZER:Michael Melady
ATTACH;FMTTYPE="image/jpeg":http://storage.ning.com/topology/rest/1.0/
 file/get/3055003677?profile=original
ATTENDEE;ROLE=REQ-PARTICIPANT;PARTSTAT=ACCEPTED;RSVP=TRUE;CN="Bryan Ch
 an":http://phillytodo.com/profile/BryanChan
END:VEVENT
END:VCALENDAR
