BEGIN:VCALENDAR
PRODID:NingEventWidget-v1
VERSION:2.0
METHOD:PUBLISH
BEGIN:VEVENT
UID:4320450:Event:59704
DTSTAMP:20260425T123411Z
SUMMARY:Restoration Volunteer Workday
DESCRIPTION:Help us to improve the health and biodiversity of our fore
 st while getting to know the property, connecting with nature, and mak
 ing new friends. On workdays, volunteers will remove invasive plants a
 nd help to improve our trails.\n \nWe recommend long pants, sturdy bo
 ots, and a sense of fellowship. No experience necessary—we provide g
 loves, tools, instruction, and snacks. Please bring your own water bot
 tle.\n \nPlease note: our volunteer workday will be canceled in the e
 vent of severe weather.\n\nFor more information visit http://phillytod
 o.com/events/restoration-volunteer-workday
DTSTART:20200111T150000Z
DTEND:20200111T170000Z
CATEGORIES:volunteer
LOCATION:the Schuylkill Center
WEBSITE:http://www.schuylkillcenter.org/blog/event/restoration-volunte
 er-workday-36/
URL:http://www.schuylkillcenter.org/blog/event/restoration-volunteer-w
 orkday-36/
CONTACT:
ORGANIZER;CN="The Schuylkill Center":http://phillytodo.com/profile/Ann
 aLehrMueser
ATTACH;FMTTYPE="image/jpeg":
ATTENDEE;ROLE=REQ-PARTICIPANT;PARTSTAT=ACCEPTED;RSVP=TRUE;CN="The Schu
 ylkill Center":http://phillytodo.com/profile/AnnaLehrMueser
END:VEVENT
END:VCALENDAR
