BEGIN:VCALENDAR
PRODID:NingEventWidget-v1
VERSION:2.0
METHOD:PUBLISH
BEGIN:VEVENT
UID:4320450:Event:56108
DTSTAMP:20260425T125033Z
SUMMARY:Restaurant Week in Chestnut Hill
DESCRIPTION:Save the dates for summer Restaurant Week in Chestnut Hill
 ! From August 12 to August 17, participating restaurants will offer a 
 dinner dining experience for $35 (offer may vary by restaurant). Resta
 urant Week options include global cuisine, comfort food, BYOB, and mor
 e. More information can be found at: https://www.facebook.com/events/6
 52826305084217/\n\nFor more information visit http://phillytodo.com/ev
 ents/restaurant-week-in-chestnut-hill
DTSTART:20180812T210000Z
DTEND:20180818T020000Z
CATEGORIES:restauraunt, week
LOCATION:Along Germantown Ave.
WEBSITE:
URL:
CONTACT:
ORGANIZER;CN="Bryan Chan":http://phillytodo.com/profile/BryanChan
ATTACH;FMTTYPE="image/jpeg":http://storage.ning.com/topology/rest/1.0/
 file/get/3055015746?profile=original
ATTENDEE;ROLE=REQ-PARTICIPANT;PARTSTAT=ACCEPTED;RSVP=TRUE;CN="Bryan Ch
 an":http://phillytodo.com/profile/BryanChan
END:VEVENT
END:VCALENDAR
