BEGIN:VCALENDAR
PRODID:NingEventWidget-v1
VERSION:2.0
METHOD:PUBLISH
BEGIN:VEVENT
UID:4320450:Event:37321
DTSTAMP:20260425T161642Z
SUMMARY:Replay America - The Ultimate 80's Music Festival
DESCRIPTION:Replay America showcases the very best of 80s music, incl
 uding stars The Go-Go’s, Patty Smyth and Scandal, Martha Davis and T
 he Motels, Cutting Crew and Naked Eyes featuring Pete Byrne. Together 
 they offer numerous hits from the unforgettable decade. Replay America
  will take place in eleven cities across the US and this marks the fir
 st time that the renowned Replay Festival that began in the United Ki
 ngdom in 2009 will come to the United States. The Replay Festival has
  become one of the most anticipated festivals of the summer abroad, an
 d the American version is sure to follow suit.\n \n\nFor more informa
 tion visit http://phillytodo.com/events/replay-america-the-ultimate-80
 -s-music-festival
DTSTART:20140711T223000Z
DTEND:20140712T030000Z
CATEGORIES:concert
LOCATION:PPL Park
WEBSITE:http://www.philadelphiaunion.com/ppl-park/replay-america
URL:http://www.philadelphiaunion.com/ppl-park/replay-america
CONTACT:610-859-3105
ORGANIZER;CN="PPL Park":http://phillytodo.com/profile/PPLPark
ATTACH;FMTTYPE="image/jpeg":http://storage.ning.com/topology/rest/1.0/
 file/get/3054978944?profile=original
ATTENDEE;ROLE=REQ-PARTICIPANT;PARTSTAT=ACCEPTED;RSVP=TRUE;CN="PPL Park
 ":http://phillytodo.com/profile/PPLPark
END:VEVENT
END:VCALENDAR
