BEGIN:VCALENDAR
PRODID:NingEventWidget-v1
VERSION:2.0
METHOD:PUBLISH
BEGIN:VEVENT
UID:4320450:Event:1732
DTSTAMP:20260425T161822Z
SUMMARY:Renaissance Old School Party II
DESCRIPTION:Alright my friends were back for part 2 at The Loft Night 
 Club Friday June 18th.\n\nDJ's Eddie Tully, Steve Nolfi and Bobby Defl
 ippo playing all you're old school jams.\n\nThe first jam was so much 
 fun we had to do another one. Those that missed the first one here's y
 our chance to see what you missed.\n\nHip Hop, House, Freestyle and al
 l the Clubs hits will be heard!!!\n\nSee your old friends again and me
 et new ones!!!\n\nthis party is hosted by Jay Beady and Eddie Tully\n\
 nFor more information visit http://phillytodo.com/events/renaissance-o
 ld-school-party
DTSTART:20100619T020000Z
DTEND:20100619T060000Z
CATEGORIES:night, club, event
LOCATION:The Loft Night Club
WEBSITE:http://www.djeddietully.com
URL:http://www.djeddietully.com
CONTACT:215-271-0801
ORGANIZER;CN="Eddie Tully":http://phillytodo.com/profile/EddieTully
ATTACH;FMTTYPE="image/jpeg":http://storage.ning.com/topology/rest/1.0/
 file/get/3054949895?profile=original
ATTENDEE;ROLE=REQ-PARTICIPANT;PARTSTAT=ACCEPTED;RSVP=TRUE;CN="Eddie Tu
 lly":http://phillytodo.com/profile/EddieTully
END:VEVENT
END:VCALENDAR
