BEGIN:VCALENDAR
PRODID:NingEventWidget-v1
VERSION:2.0
METHOD:PUBLISH
BEGIN:VEVENT
UID:4320450:Event:1040
DTSTAMP:20260425T160020Z
SUMMARY:Reggae Attack!
DESCRIPTION:DJ Version Girl and DJ CarryUs are welcoming 2 special gue
 sts this month, King Stout all the way from New Jersey and DJ Geoffers
 on of Cognizant Sound. As always it's all reggae & all vinyl, riding r
 iddims, plenty of roots, rocksteady, early dancehall, rub a dub, DJ cu
 ts, and soon to be classics\n\nWe also have plenty of CDs to giveaway 
 - some great ska & reggae samplers, plus new mixes\n\n10pm, $5, Upstai
 rs at Liberties, 2nd and Fairmount\n\nFor more information visit http:
 //phillytodo.com/events/reggae-attack
DTSTART:20100221T030000Z
DTEND:20100221T070000Z
CATEGORIES:reggae, dancehall, dj, roots, vinyl, records
LOCATION:Liberties
WEBSITE:
URL:
CONTACT:
ORGANIZER;CN="Dana B.":http://phillytodo.com/profile/DanaB
ATTACH;FMTTYPE="image/jpeg":http://storage.ning.com/topology/rest/1.0/
 file/get/3054946312?profile=original
ATTENDEE;ROLE=REQ-PARTICIPANT;PARTSTAT=ACCEPTED;RSVP=TRUE;CN="Dana B."
 :http://phillytodo.com/profile/DanaB
END:VEVENT
END:VCALENDAR
