BEGIN:VCALENDAR
PRODID:NingEventWidget-v1
VERSION:2.0
METHOD:PUBLISH
BEGIN:VEVENT
UID:4320450:Event:1136
DTSTAMP:20260425T132529Z
SUMMARY:Reggae Attack!
DESCRIPTION:Philly Ska presents......\n\nReggae Attack: Spring Edition
 \n\nWe're celebrating the beginning of spring and the end of snow!\n\n
 DJ CarryUs & DJ Version Girl play the best roots, reggae, early danceh
 all, digital classics, and new stuff you should hear\n\nalongside our 
 very special guest\nLord Action Wood (10 Commandments/Moonshot)\n\nFor
  more information visit http://phillytodo.com/events/reggae-attack-1
DTSTART:20100321T020000Z
DTEND:20100321T060000Z
CATEGORIES:reggae, dancehall, dj, roots, vinyl, records
LOCATION:Liberties
WEBSITE:
URL:
CONTACT:
ORGANIZER;CN="Dana B.":http://phillytodo.com/profile/DanaB
ATTACH;FMTTYPE="image/jpeg":http://storage.ning.com/topology/rest/1.0/
 file/get/3054945757?profile=original
ATTENDEE;ROLE=REQ-PARTICIPANT;PARTSTAT=ACCEPTED;RSVP=TRUE;CN="Dana B."
 :http://phillytodo.com/profile/DanaB
END:VEVENT
END:VCALENDAR
