BEGIN:VCALENDAR
PRODID:NingEventWidget-v1
VERSION:2.0
METHOD:PUBLISH
BEGIN:VEVENT
UID:4320450:Event:54958
DTSTAMP:20260425T131050Z
SUMMARY:Refuge Teachings and Retreat: Finding Freedom from Fear and An
 xiety
DESCRIPTION:During this retreat, we will emphasize the development of 
 inner refuge and spiritual power that will protect us from the main pr
 oblems facing humanity at the moment. We will emphasize becoming a sin
 cere Buddhist practitioner who has great inner strength to face all th
 e challenges of life successfully.  These teachings will give us the 
 positive outlook, necessary emotional strength, and healthy lifestyle 
 guidance that will lead us along the spiritual path to lasting peace.\
 nTaught by Resident Teacher, Gen Tenzin. Everyone is welcome.\nTeachin
 gs & Meditation Sessions: Sunday, March 4th: 10:30-11:30am, 1pm-2pm, 3
 -4pm, 5-6pm\n$30\n\nFor more information visit http://phillytodo.com/e
 vents/refuge-teachings-amp-retreat-finding-freedom-from-fear-and
DTSTART:20180304T153000Z
DTEND:20180304T230000Z
CATEGORIES:meditation, buddhism, mindfulness, wellness, buddhist
LOCATION:Kadampa Meditation Center Philadelphia
WEBSITE:http://www.meditationinphiladelphia.org/refuge-teachings-retre
 at-finding-freedom-from-fear-and-anxiety-march-4-9/
URL:http://www.meditationinphiladelphia.org/refuge-teachings-retreat-f
 inding-freedom-from-fear-and-anxiety-march-4-9/
CONTACT:2677023817
ORGANIZER;CN="Education Program Coordinator":http://phillytodo.com/pro
 file/EducationProgramCoordinator
ATTACH;FMTTYPE="image/jpeg":http://storage.ning.com/topology/rest/1.0/
 file/get/3054988121?profile=original
ATTENDEE;ROLE=REQ-PARTICIPANT;PARTSTAT=ACCEPTED;RSVP=TRUE;CN="Educatio
 n Program Coordinator":http://phillytodo.com/profile/EducationProgramC
 oordinator
END:VEVENT
END:VCALENDAR
