BEGIN:VCALENDAR
PRODID:NingEventWidget-v1
VERSION:2.0
METHOD:PUBLISH
BEGIN:VEVENT
UID:4320450:Event:161170
DTSTAMP:20260425T123651Z
SUMMARY:Refuge Retreat | Livestream
DESCRIPTION:This event will be virtual via Zoom livestream.\nDuring th
 is retreat, we’ll emphasize cultivating inner refuge and spiritual p
 ower to protect us from all our sufferings & problems. By meditating o
 n and developing the mind of refuge, you will become a sincere spiritu
 al practitioner who has inner strength and a powerful mind that can fa
 ce all the challenges of life.\nSchedule:\nMonday - Wednesday Sessions
  at:\n7:00am, 12pm, 5:30pm\nThursday Sessions at:\n7:00am, 12pm, & 4:3
 0pm\nCost: $5 per session | Register at https://www.meditationinphilad
 elphia.org/refugeretreat/\n\nAbout the teacher:\nGen Kelsang Chogyop i
 s a Buddhist nun and a close disciple of Venerable Geshe Kelsang Gyats
 o Rinpoche. She is the main teacher at Kadampa Meditation Center Phila
 delphia. Gen Chogyop has been studying and teaching Kadampa Buddhism f
 or more than 20 years, and is known for her warm heart, practical teac
 hings and sincere practice of Dharma. She provides an inspiring exampl
 e of a modern Buddhist practitioner.\nThrough emphasizing the Bodhisat
 tva’s way of life, she encourages all the students at the center to 
 bring their practice of Buddha’s teachings into their daily lives, b
 ringing joy to as many people as possible.\n\nFor more information vis
 it http://phillytodo.com/events/refuge-retreat-livestream
DTSTART:20210315T110000Z
DTEND:20210318T223000Z
CATEGORIES:meditation, wellness, spirituality, buddhist
LOCATION:Zoom livestream
WEBSITE:https://www.meditationinphiladelphia.org/refugeretreat/
URL:https://www.meditationinphiladelphia.org/refugeretreat/
CONTACT:267-702-3817
ORGANIZER;CN="Education Program Coordinator":http://phillytodo.com/pro
 file/EducationProgramCoordinator
ATTACH;FMTTYPE="image/jpeg":https://storage.ning.com/topology/rest/1.0
 /file/get/8582146286?profile=original
ATTENDEE;ROLE=REQ-PARTICIPANT;PARTSTAT=ACCEPTED;RSVP=TRUE;CN="Educatio
 n Program Coordinator":http://phillytodo.com/profile/EducationProgramC
 oordinator
END:VEVENT
END:VCALENDAR
