BEGIN:VCALENDAR
PRODID:NingEventWidget-v1
VERSION:2.0
METHOD:PUBLISH
BEGIN:VEVENT
UID:4320450:Event:24410
DTSTAMP:20260425T191142Z
SUMMARY:Reflections on Black History
DESCRIPTION:\nMeet important figures from history, including civil rig
 hts pioneer Octavius Catto; first 20 children 12 & under to meet Catto
  enjoy a free showing of Liberty 360.  Hear riveting stories from the
  African American experience, as told by Once Upon A Nation storytelle
 rs.  Make silhouettes in the tradition of the well-known African Amer
 ican artist, Moses Williams.  Activities are free. \n\n\nFor more in
 formation visit http://phillytodo.com/events/reflections-on-black-hist
 ory
DTSTART:20120204T190000Z
DTEND:20120205T220000Z
CATEGORIES:black, history, month, event
LOCATION:Old City
WEBSITE:http://www.historicphiladelphia.org
URL:http://www.historicphiladelphia.org
CONTACT:215-629-4026
ORGANIZER:Historic Philadelphia, Inc.
ATTACH;FMTTYPE="image/jpeg":http://storage.ning.com/topology/rest/1.0/
 file/get/3054958111?profile=original
ATTENDEE;ROLE=REQ-PARTICIPANT;PARTSTAT=ACCEPTED;RSVP=TRUE;CN="Heather 
 Kincade":http://phillytodo.com/profile/HeatherKincade
END:VEVENT
END:VCALENDAR
