BEGIN:VCALENDAR
PRODID:NingEventWidget-v1
VERSION:2.0
METHOD:PUBLISH
BEGIN:VEVENT
UID:4320450:Event:171538
DTSTAMP:20260425T093426Z
SUMMARY:Red Riding Hood
DESCRIPTION:This wildly inventive and humorous adaptation puts a spin 
 on the popular fairy tale when a delivery driver calls into question a
 n actor’s production of the “true story” of Little Red Riding Ho
 od.\n\nFor more information visit http://phillytodo.com/events/red-rid
 ing-hood
DTSTART:20230412T140000Z
DTEND:20230604T213000Z
CATEGORIES:"children's", theatre
LOCATION:Arden Theatre Company
WEBSITE:https://ardentheatre.org/production/red-riding-hood/
URL:https://ardentheatre.org/production/red-riding-hood/
CONTACT:215.922.1122
ORGANIZER;CN="Arden Theatre Company":http://phillytodo.com/profile/Ard
 enTheatreCompany
ATTACH;FMTTYPE="image/jpeg":https://storage.ning.com/topology/rest/1.0
 /file/get/10921921290?profile=original
ATTENDEE;ROLE=REQ-PARTICIPANT;PARTSTAT=ACCEPTED;RSVP=TRUE;CN="Arden Th
 eatre Company":http://phillytodo.com/profile/ArdenTheatreCompany
END:VEVENT
END:VCALENDAR
