BEGIN:VCALENDAR
PRODID:NingEventWidget-v1
VERSION:2.0
METHOD:PUBLISH
BEGIN:VEVENT
UID:4320450:Event:54204
DTSTAMP:20260425T130116Z
SUMMARY:Red Owl's 2nd Annual Chinatown Pop-Up Christmas Dinner
DESCRIPTION:Red Owl Tavern is taking a page from A Christmas Story by
  hosting its 2nd Annual Chinatown Pop-Up Christmas Dinner on Christmas
  Eve and Christmas Day. Executive Chef Caitlin Mateo crafted a special
  Chinese-American menu including Duck Confit Steam Buns, Pork Belly Ra
 men and General Tso’s Chicken. Don’t worry folks, the sexy leg lam
 p will make an appearance! Make your reservation at redowltavern.com. 
 *Reservations are Recommended*\n\nFor more information visit http://ph
 illytodo.com/events/red-owl-s-2nd-annual-chinatown-pop-up-christmas-di
 nner
DTSTART:20171224T220000Z
DTEND:20171226T030000Z
CATEGORIES:christmas, dinner
LOCATION:Red Owl Tavern
WEBSITE:http://www.redowltavern.com/events/special-events.htm
URL:http://www.redowltavern.com/events/special-events.htm
CONTACT:
ORGANIZER:Red Owl Tavern
ATTACH;FMTTYPE="image/jpeg":http://storage.ning.com/topology/rest/1.0/
 file/get/3055009850?profile=original
ATTENDEE;ROLE=REQ-PARTICIPANT;PARTSTAT=ACCEPTED;RSVP=TRUE;CN="Punch Me
 dia":http://phillytodo.com/profile/PunchMedia
END:VEVENT
END:VCALENDAR
