BEGIN:VCALENDAR
PRODID:NingEventWidget-v1
VERSION:2.0
METHOD:PUBLISH
BEGIN:VEVENT
UID:4320450:Event:29630
DTSTAMP:20260425T142612Z
SUMMARY:Red Carpet GayBINGO!
DESCRIPTION:Who are YOU wearing? This fun event is open to anyone who 
 enjoys campy humor. Cash prizes will be awarded in each game.  Ticket
 s for GayBINGO are on sale at 215-731-9255.  Reserved Seating tickets
  on the Bingo floor are $25. General admission tickets in the balcony 
 are $20.  The AIDS Fund grant program supports organizations in the Ph
 iladelphia Region that provide AIDS and HIV-related services, educatio
 n, and prevention including increasing public awareness of HIV/AIDS is
 sues.\n\nFor more information visit http://phillytodo.com/events/red-c
 arpet-gaybingo
DTSTART:20130323T220000Z
DTEND:20130324T010000Z
CATEGORIES:bingo, fundraiser, lgbt
LOCATION:The Gershman Y
WEBSITE:http://www.aidsfundphilly.org
URL:http://www.aidsfundphilly.org
CONTACT:215-731-9255
ORGANIZER;CN="Cari Feiler Bender":http://phillytodo.com/profile/CariFe
 ilerBender
ATTACH;FMTTYPE="image/jpeg":http://storage.ning.com/topology/rest/1.0/
 file/get/3054961020?profile=original
ATTENDEE;ROLE=REQ-PARTICIPANT;PARTSTAT=ACCEPTED;RSVP=TRUE;CN="Cari Fei
 ler Bender":http://phillytodo.com/profile/CariFeilerBender
END:VEVENT
END:VCALENDAR
