BEGIN:VCALENDAR
PRODID:NingEventWidget-v1
VERSION:2.0
METHOD:PUBLISH
BEGIN:VEVENT
UID:4320450:Event:9202
DTSTAMP:20260425T141125Z
SUMMARY:Ready, Set, Breathe!
DESCRIPTION:How exciting! Every month PhillyFashionistas.com is trying
  new and exciting things and you are cordially invited. If you missed 
 our April event, don't sweat it, or do sweat it out at our Catalyst Cl
 eanse and Amrita Yoga Event along with other fellow Philly Fashionista
 s. Enjoy a FREE yoga class taught by none other than Heather Rice, fol
 lowed by a Catalyst Juice tasting and your chance to win TWO GIVEAWAYS
 !!! One lucky guest will win a 3-Day Catalyst Cleanse aka \"Liquid Lip
 o\" and another a Complete Yoga Package. All attendees will receive go
 odies, so please sign up before we reach the studio capacity.Can't wai
 t to see you all there. Namaste,Biana THE Philly Fashionistawww.Philly
 Fashionistas.com\n\nFor more information visit http://phillytodo.com/e
 vents/ready-set-breathe
DTSTART:20110507T180000Z
DTEND:20110507T200000Z
CATEGORIES:the, most, zen, you, can, have, on, a, saturday, afternoon
LOCATION:Amrita Yoga and Wellness
WEBSITE:http://www.facebook.com/PhillyFashionistas#!/event.php?eid=167
 210270000461
URL:http://www.facebook.com/PhillyFashionistas#!/event.php?eid=1672102
 70000461
CONTACT:
ORGANIZER;CN=FashionWhipped:http://phillytodo.com/profile/BianaDeMarco
ATTACH;FMTTYPE="image/jpeg":http://storage.ning.com/topology/rest/1.0/
 file/get/3054954254?profile=original
ATTENDEE;ROLE=REQ-PARTICIPANT;PARTSTAT=ACCEPTED;RSVP=TRUE;CN=FashionWh
 ipped:http://phillytodo.com/profile/BianaDeMarco
END:VEVENT
END:VCALENDAR
