BEGIN:VCALENDAR
PRODID:NingEventWidget-v1
VERSION:2.0
METHOD:PUBLISH
BEGIN:VEVENT
UID:4320450:Event:31704
DTSTAMP:20260425T130441Z
SUMMARY:Reading is Delicious
DESCRIPTION:Books and food, can you think of a better combination? Som
 etimes reading can be delectable.\n\nFor more information visit http:/
 /phillytodo.com/events/reading-is-delicious
DTSTART:20130415T200000Z
DTEND:20130415T220000Z
CATEGORIES:food, library, events
LOCATION:Lansdowne Public Library
WEBSITE:http://lansdownepubliclibrary.com/
URL:http://lansdownepubliclibrary.com/
CONTACT:610-623-0239
ORGANIZER;CN="Lansdowne Public Library":http://phillytodo.com/profile/
 LansdownePublicLibrary
ATTACH;FMTTYPE="image/jpeg":http://storage.ning.com/topology/rest/1.0/
 file/get/3054965049?profile=original
ATTENDEE;ROLE=REQ-PARTICIPANT;PARTSTAT=ACCEPTED;RSVP=TRUE;CN="Lansdown
 e Public Library":http://phillytodo.com/profile/LansdownePublicLibrary
END:VEVENT
END:VCALENDAR
