BEGIN:VCALENDAR
PRODID:NingEventWidget-v1
VERSION:2.0
METHOD:PUBLISH
BEGIN:VEVENT
UID:4320450:Event:31305
DTSTAMP:20260425T191626Z
SUMMARY:\"Ratchet Wednesday\" @ Tabu Lounge & Sports Bar
DESCRIPTION:If the first half of your week has been rough & your looki
 ng for a good place for cheap drinks & awesome music to burn a hole in
  a dance floor to, Tabu is your place!\n9pm $15 (all you can drink unt
 il midnight)\n10pm $10 (all you can drink until midnight)\n11pm $5 (al
 l you can drink until midnight)\n$2 Pabst Blue Ribbon, Narragansett, &
  Blue Moon cans after midnight\n\nFor more information visit http://ph
 illytodo.com/events/ratchet-wednesday-tabu-lounge-sports-bar
DTSTART:20130321T010000Z
DTEND:20130321T060000Z
CATEGORIES:open, "bar...the", "double d", "...drinks", "&", "dancing!"
LOCATION:Tabu Lounge & Sports Bar
WEBSITE:http://www.tabuphilly.com/index.php?/main/events/100/
URL:http://www.tabuphilly.com/index.php?/main/events/100/
CONTACT:
ORGANIZER:Tabu Lounge & Sports Bar
ATTACH;FMTTYPE="image/jpeg":
ATTENDEE;ROLE=REQ-PARTICIPANT;PARTSTAT=ACCEPTED;RSVP=TRUE;CN="Adam Ryb
 arczyk @FoodPhreak":http://phillytodo.com/profile/AdamRybarczyk
END:VEVENT
END:VCALENDAR
