BEGIN:VCALENDAR
PRODID:NingEventWidget-v1
VERSION:2.0
METHOD:PUBLISH
BEGIN:VEVENT
UID:4320450:Event:35802
DTSTAMP:20260425T155843Z
SUMMARY:Rasputin's Room: Philadelphia's Premier All Classic Burlesque 
 Show
DESCRIPTION:Lil' Steph presents RASPUTIN'S ROOM: Philadelphia's Only A
 ll Classic Burlesque ShowRuba Club416 Green St (between Spring Garden 
 St and Fairmount Ave)February 21, 2014Doors at 9pm, Show at 10pm$10\"H
 ow can you sincerely repent if you have not sinned?\"-RasputinThe time
  has come to satisfy your craving for sinful behavior. RASPUTIN’S RO
 OM brings you an extravaganza of opulent indulgence every 3rd Friday o
 f the month. RASPUTIN’S ROOM is a lavish evening overflowing with su
 mptuous burlesque and musical performances, featuring a rotating cast 
 of the most alluring performers from up and down the eastern seaboard!
 \nStarring:Philadelphia's Gender Fuck Royalty, THE NOTORIOUS OMGThe Bu
 bbling Brown Sugar of Burlesque, ESSENCE REVEALEDThe ever lavish, DOLL
 Y DEBUTANTEThe Criminally Cute, LIL' STEPHWith Kitten, Dahvyahnna\nQu
 ench your thirst at the bar in true Rasputin style before the show at 
 our cocktail hour. Be sure to stay after the show to drink, mingle and
  dance with the glitterati!!\nLocal artist ,Monique Ligons, will have 
 prints her work on display which will be available for purchase.www.bo
 nafidejawn.tumblr.com\nRasputin's Room was featured as one of PW's Top
  Weekend Picks:http://www.philadelphiaweekly.com/arts-and-culture/PWs-
 Weekend-Picks-June-21-23-212502941.html\nRasputin's Room was also high
 lighted in the recent Philadelphia Weekly article \"one day in Philade
 lphia: 24 hours of life in the city\"\nhttp://www.philadelphiaweekly.c
 om/news-and-opinion/cover-story/One-day-in-Philadelphia-24-hours-in-th
 e-city-216675451.html\nhttp://philly.thedrinknation.com/articles/read/
 11590-7-Must-Visit-Hidden-Bars-in-PhiladelphiaRuba memberships availab
 le \nwww.rubaclubstudios.org\nwww.lilsteph.com\n\nFor more informatio
 n visit http://phillytodo.com/events/rasputin-s-room-philadelphia-s-pr
 emier-all-classic-burlesque-show
DTSTART:20140222T020000Z
DTEND:20140222T050000Z
CATEGORIES:"burlesque/cabaret"
LOCATION:Ruba
WEBSITE:http://www.rubaclubstudios.org
URL:http://www.rubaclubstudios.org
CONTACT:2156279831
ORGANIZER;CN="Lil' Steph":http://phillytodo.com/profile/LilSteph
ATTACH;FMTTYPE="image/jpeg":http://storage.ning.com/topology/rest/1.0/
 file/get/3054973759?profile=original
ATTENDEE;ROLE=REQ-PARTICIPANT;PARTSTAT=ACCEPTED;RSVP=TRUE;CN="Lil' Ste
 ph":http://phillytodo.com/profile/LilSteph
END:VEVENT
END:VCALENDAR
