BEGIN:VCALENDAR
PRODID:NingEventWidget-v1
VERSION:2.0
METHOD:PUBLISH
BEGIN:VEVENT
UID:4320450:Event:54641
DTSTAMP:20260425T114227Z
SUMMARY:Rashomon Podcast Launch Party
DESCRIPTION:Rashomon is a podcast where one family tells every side of
  the same story. Join host Hillary Rea and special guests to celebrate
  the release of the first three episodes. Audio in the dark, live stor
 ies on stage, plus a few special surprises that we cannot reveal!\nFea
 turing:\nRose Luardo\nCecily Alexandria\nHannah Trav & Family\nand sp
 ecial guests!\n\nHosted by Hillary Rea\n\nFor more information visit h
 ttp://phillytodo.com/events/rashomon-podcast-launch-party
DTSTART:20180329T000000Z
DTEND:20180329T010000Z
CATEGORIES:comedy, show, podcast, launch, storytelling
LOCATION:Good Good Comedy Theatre
WEBSITE:http://goodgoodcomedy.com
URL:http://goodgoodcomedy.com
CONTACT:(215) 399-1279
ORGANIZER:Good Good Comedy Theatre
ATTACH;FMTTYPE="image/jpeg":http://storage.ning.com/topology/rest/1.0/
 file/get/3055010981?profile=original
ATTENDEE;ROLE=REQ-PARTICIPANT;PARTSTAT=ACCEPTED;RSVP=TRUE;CN="Hillary 
 Rea":http://phillytodo.com/profile/HillaryRea
END:VEVENT
END:VCALENDAR
