BEGIN:VCALENDAR
PRODID:NingEventWidget-v1
VERSION:2.0
METHOD:PUBLISH
BEGIN:VEVENT
UID:4320450:Event:27504
DTSTAMP:20260425T144422Z
SUMMARY:Rally America at NJMP
DESCRIPTION: \nCars, cycles and cool sports action will overtake New 
 Jersey Motorsports Park, located at 8000 Dividing Creek Road in Millvi
 lle, NJ, and JSC Speed Rallycross Series’ event on Saturday, July 21
 , 2012, and the entry fee is only $30 per car-load (max. 6 ppl.) when 
 purchased on-line by July 18.\nThe second in the Rally America U.S. Ra
 llycross Series for 2012 at NJMP, the event format features Rally-styl
 e cars where five drivers line up to start all at once piloting high h
 orsepower compact cars jumping and sliding through race traffic over a
  challenging short road course, made up of pavement and gravel, featur
 ing jumps, unbanked turns, hills and transitions.    During the rac
 e, each car must also take a “joker” lap at some point during thei
 r heat.  A “joker lap” is a small detour normally over a jump tha
 t adds a level of unpredictability to the heat’s outcome by changing
  a driver’s strategy in an instant.\nIn addition to Rallycross racin
 g, July 21st’s event line-up will also feature Drifting Demonstratio
 ns by Club Loose; Monster Truck Rides; Cycle Performances on Rally Tra
 ck; Motorcycle Stunt Show with Tony Carbajal; Free Fan Walk on Rally T
 rack with Drivers; Free Car Parade Laps at lunchtime; Buy One Get One 
 Free Go-Karting Sessions with Rally Ticket voucher; $1 Hot Dogs at Con
 cession Stands; $5 Burgers, 6 styles to choose from, at The Finish Lin
 e Pub all day; Free AMA Pro Racing tickets with registered participati
 on in The American Red Cross Blood Drive.\n\nFor more information visi
 t http://phillytodo.com/events/rally-america-at-njmp
DTSTART:20120721T040000Z
DTEND:20120722T035900Z
CATEGORIES:auto, racing
LOCATION:New Jersey Motorsports Park
WEBSITE:http://www.njmp.com
URL:http://www.njmp.com
CONTACT:856-327-7265
ORGANIZER;CN="New Jersey Motorsports Park":http://phillytodo.com/profi
 le/NewJerseyMotorsportsPark
ATTACH;FMTTYPE="image/jpeg":
ATTENDEE;ROLE=REQ-PARTICIPANT;PARTSTAT=ACCEPTED;RSVP=TRUE;CN="New Jers
 ey Motorsports Park":http://phillytodo.com/profile/NewJerseyMotorsport
 sPark
END:VEVENT
END:VCALENDAR
