BEGIN:VCALENDAR
PRODID:NingEventWidget-v1
VERSION:2.0
METHOD:PUBLISH
BEGIN:VEVENT
UID:4320450:Event:58917
DTSTAMP:20260425T112848Z
SUMMARY:Ragtime at the Arden Theatre Co.
DESCRIPTION:This Tony Award-winning tale follows the intersection of c
 ultures, classes, and nationalities – all fighting for their America
 n dream in New York City at the turn of the 20th century – reimagine
 d for today’s audience.\n     Running on the F. Otto Haas stage f
 rom September 19 - October 20, 2019\n\nFor more information visit htt
 p://phillytodo.com/events/ragtime-at-the-arden-theatre-co
DTSTART:20190919T230000Z
DTEND:20191020T180000Z
CATEGORIES:musical, theatre, performance
LOCATION:Arden Theatre Company
WEBSITE:https://ardentheatre.org/event/ragtime/2019-09-19/
URL:https://ardentheatre.org/event/ragtime/2019-09-19/
CONTACT:215.922.1122
ORGANIZER:
ATTACH;FMTTYPE="image/jpeg":https://storage.ning.com/topology/rest/1.0
 /file/get/3564533839?profile=original
ATTENDEE;ROLE=REQ-PARTICIPANT;PARTSTAT=ACCEPTED;RSVP=TRUE;CN="Arden Th
 eatre Company":http://phillytodo.com/profile/ArdenTheatreCompany
END:VEVENT
END:VCALENDAR
