BEGIN:VCALENDAR
PRODID:NingEventWidget-v1
VERSION:2.0
METHOD:PUBLISH
BEGIN:VEVENT
UID:4320450:Event:33149
DTSTAMP:20260425T223334Z
SUMMARY:Radio Nashville\" Performs on Concert Stage
DESCRIPTION:Going to the \"Taylor Swift\" concert at Lincoln Financial
  Field?Then join us pre-concert as \"Radio Nashville\" performs live o
 n the outdoor concert stage from 4-8pm.Free parking is available after
  7:30pm.\n\nFor more information visit http://phillytodo.com/events/ra
 dio-nashville-performs-on-concert-stage-1
DTSTART:20130720T200000Z
DTEND:20130721T000000Z
CATEGORIES:live, music
LOCATION:XFINITY Live! Philadelphia
WEBSITE:http://www.xfinitylive.com
URL:http://www.xfinitylive.com
CONTACT:215-609-1678
ORGANIZER;CN="Stepfanie McCaffrey":http://phillytodo.com/profile/Stepf
 anieMcCaffrey
ATTACH;FMTTYPE="image/jpeg":http://storage.ning.com/topology/rest/1.0/
 file/get/3054967031?profile=original
ATTENDEE;ROLE=REQ-PARTICIPANT;PARTSTAT=ACCEPTED;RSVP=TRUE;CN="Stepfani
 e McCaffrey":http://phillytodo.com/profile/StepfanieMcCaffrey
END:VEVENT
END:VCALENDAR
