BEGIN:VCALENDAR
PRODID:NingEventWidget-v1
VERSION:2.0
METHOD:PUBLISH
BEGIN:VEVENT
UID:4320450:Event:47062
DTSTAMP:20260425T125825Z
SUMMARY:Radiant Vermin by Philip Ridley
DESCRIPTION:Inis Nua Theatre Company presents the Philadelphia premier
 e of Radiant Vermin, by English playwright Philip Ridley, from October
  19 to November 6, 2016, at the Louis Bluver Theatre at The Drake (302
  S. Hicks St). Meet Jill and Ollie, a seemingly nice young couple. Som
 eone they will go to in order to make it all perfect. This dark and sh
 ockingly funny comedy will have you on the edge of your seat. Directed
  by Claire Moyer. Tickets are onsale for $25-$30 by calling (215) 454-
 9776 or visiting inisnuatheatre.org.\n\nFor more information visit htt
 p://phillytodo.com/events/radiant-vermin-by-philip-ridley
DTSTART:20161019T230000Z
DTEND:20161106T190000Z
CATEGORIES:play
LOCATION:the Louis Bluver Theatre at The Drake
WEBSITE:https://inisnuatheatre.secure.force.com/ticket#details_a0S3700
 0003p5O9EAI
URL:https://inisnuatheatre.secure.force.com/ticket#details_a0S37000003
 p5O9EAI
CONTACT:215-454-9776
ORGANIZER;CN="Aversa PR & Events":http://phillytodo.com/profile/KoryAv
 ersa277
ATTACH;FMTTYPE="image/jpeg":http://storage.ning.com/topology/rest/1.0/
 file/get/3054998194?profile=original
ATTENDEE;ROLE=REQ-PARTICIPANT;PARTSTAT=ACCEPTED;RSVP=TRUE;CN="Aversa P
 R & Events":http://phillytodo.com/profile/KoryAversa277
END:VEVENT
END:VCALENDAR
