BEGIN:VCALENDAR
PRODID:NingEventWidget-v1
VERSION:2.0
METHOD:PUBLISH
BEGIN:VEVENT
UID:4320450:Event:47036
DTSTAMP:20260425T163308Z
SUMMARY:Quizzo with Johnny Goodtimes Every Tuesday of the Month
DESCRIPTION:Bring your team and enjoy BYO Quizzo with Johnny Goodtimes
  at Market and Shops at the Comcast Center. Quizzo will be held on Tue
 sday, September 13, 2016 from 5:30-7:30pm. Bring your own beverages, a
 nd we’ve got your bucket of ice covered! There will be 1st, 2nd & 3r
 d place prizes.  \n\nFor more information visit http://phillytodo.co
 m/events/quizzo-with-johnny-goodtimes-every-tuesday-of-the-month
DTSTART:20160913T213000Z
DTEND:20160913T233000Z
CATEGORIES:game, night
LOCATION:The Market & Shops at Comcast Center
WEBSITE:http://www.themarketandshopsatcomcastcenter.com
URL:http://www.themarketandshopsatcomcastcenter.com
CONTACT:215-496-1810
ORGANIZER:The Market and Shops at Comcast Center
ATTACH;FMTTYPE="image/jpeg":http://storage.ning.com/topology/rest/1.0/
 file/get/3054997503?profile=original
ATTENDEE;ROLE=REQ-PARTICIPANT;PARTSTAT=ACCEPTED;RSVP=TRUE;CN=CashmanAs
 soc:http://phillytodo.com/profile/CashmanAssoc
END:VEVENT
END:VCALENDAR
