BEGIN:VCALENDAR
PRODID:NingEventWidget-v1
VERSION:2.0
METHOD:PUBLISH
BEGIN:VEVENT
UID:4320450:Event:47311
DTSTAMP:20260425T133208Z
SUMMARY:Quizzo with Johnny Goodtimes at The Market and Shops at Comcas
 t Center
DESCRIPTION:Rally up your team and join Johnny Goodtimes for BYO Quizz
 o at The Market & Shops at Comcast Center! 1st, 2nd, and 3rdplace winn
 ers will receive prizes and we’ve got your ice buckets and bottle op
 eners covered, just bring your beverage of choice.\n\nFor more informa
 tion visit http://phillytodo.com/events/quizzo-with-johnny-goodtimes-a
 t-the-market-and-shops-at-comcast
DTSTART:20161011T213000Z
DTEND:20161011T233000Z
CATEGORIES:food, byo, quizzo
LOCATION:The Market & Shops at Comcast Center
WEBSITE:http://www.themarketandshopsatcomcastcenter.com/
URL:http://www.themarketandshopsatcomcastcenter.com/
CONTACT:2154961810
ORGANIZER;CN=CashmanAssoc:http://phillytodo.com/profile/CashmanAssoc
ATTACH;FMTTYPE="image/jpeg":http://storage.ning.com/topology/rest/1.0/
 file/get/3054998861?profile=original
ATTENDEE;ROLE=REQ-PARTICIPANT;PARTSTAT=ACCEPTED;RSVP=TRUE;CN=CashmanAs
 soc:http://phillytodo.com/profile/CashmanAssoc
END:VEVENT
END:VCALENDAR
