BEGIN:VCALENDAR
PRODID:NingEventWidget-v1
VERSION:2.0
METHOD:PUBLISH
BEGIN:VEVENT
UID:4320450:Event:170673
DTSTAMP:20260425T172957Z
SUMMARY:Quizzo Trivia Nights at Fette Sau
DESCRIPTION:Get your team together because Fetta Sau is now hosting Qu
 izzo trivia nights with an $100 prize. Test your knowledge with friend
 s or family in a fun and competitive atmosphere, while enjoying some o
 f the best BBQ in Philly. Pair your sandwich or smoked meats with Fett
 a Sau’s extensive whiskey selection and collaborate with your team t
 o answer questions about sports, history, entertainment and more. \n\
 nDon’t forget to check out Fette Sau’s weekly Whiskey Wednesday ha
 ppy hour with specials from 4-6pm, and stick around for Quizzo afterwa
 rds!\n\n\nFor more information visit http://phillytodo.com/events/quiz
 zo-trivia-nights-at-fette-sau-2
DTSTART:20220907T223000Z
DTEND:20220907T233000Z
CATEGORIES:trivia
LOCATION:Fette Sau
WEBSITE:https://fettesauphilly.com
URL:https://fettesauphilly.com
CONTACT:215-391-4888
ORGANIZER;CN=CashmanAssoc:http://phillytodo.com/profile/CashmanAssoc
ATTACH;FMTTYPE="image/jpeg":https://storage.ning.com/topology/rest/1.0
 /file/get/10670109457?profile=original
ATTENDEE;ROLE=REQ-PARTICIPANT;PARTSTAT=ACCEPTED;RSVP=TRUE;CN=CashmanAs
 soc:http://phillytodo.com/profile/CashmanAssoc
END:VEVENT
END:VCALENDAR
