BEGIN:VCALENDAR
PRODID:NingEventWidget-v1
VERSION:2.0
METHOD:PUBLISH
BEGIN:VEVENT
UID:4320450:Event:38005
DTSTAMP:20260425T125012Z
SUMMARY:Quizzo in the Square
DESCRIPTION:Bring your friends and get your game on with Philadelphiaâ
 €™s famous trivia game in the Pavilion! Tickets required and include b
 eer, wine, soft drinks, and snacks.Â \n\nFun family entertainment and 
 a beautiful park are just steps away from the Liberty Bell, in one of 
 William Pennâ€™s original five squares, and the only one dedicated to 
 fun.Â  Award-winning Franklin Square is a family-friendly play place l
 ocated in the heart of Historic Philadelphia, featuring Philly Mini Go
 lf, a renovated vintage marble fountain, playgrounds, the Parx Liberty
  Carousel, and the acclaimed SquareBurger, with offerings from STARR R
 estaurants.Â  After a day of experiencing the treasures ofÂ  Philadelp
 hiaâ€™s history, putt through some of the cityâ€™s most famous icons, 
 take a ride on hometown racehorse heroes Afleet Alex or Smarty Jones a
 board the carousel, enjoy a rest next to the refreshing fountain, and 
 dine on the finest burgers and shakes in town.Â  All summer long, enjo
 y stories about our nationâ€™s history from the Once Upon A Nation sto
 ryteller.Â  Awarded Best of PhillyÂ® two times by Philadelphia Magazin
 e and one of the Five Coolest Playgrounds in the United States by Yaho
 o!\nFranklin Square: 6th & Race Streets.Â  Franklin Square opens daily
 , 7 days a week, at 10 am. SquareBurger is open 7 days a week through 
 October 31, opening at 11:30 am Mondays - Thursdays, 11 am on Fridays 
 - Sundays.Â  Closing hours vary by season. All hours are weather permi
 tting.\n\nFor more information visit http://phillytodo.com/events/quiz
 zo-in-the-square
DTSTART:20140807T220000Z
DTEND:20140808T010000Z
CATEGORIES:game, night
LOCATION:Franklin Square
WEBSITE:
URL:
CONTACT:
ORGANIZER;CN="Cari Feiler Bender":http://phillytodo.com/profile/CariFe
 ilerBender
ATTACH;FMTTYPE="image/jpeg":http://storage.ning.com/topology/rest/1.0/
 file/get/3054962820?profile=original
ATTENDEE;ROLE=REQ-PARTICIPANT;PARTSTAT=ACCEPTED;RSVP=TRUE;CN="Cari Fei
 ler Bender":http://phillytodo.com/profile/CariFeilerBender
END:VEVENT
END:VCALENDAR
