BEGIN:VCALENDAR
PRODID:NingEventWidget-v1
VERSION:2.0
METHOD:PUBLISH
BEGIN:VEVENT
UID:4320450:Event:39074
DTSTAMP:20260425T133110Z
SUMMARY:Q102 Jingle Ball Ticket Raid at Blue Cross RiverRink Winterfes
 t
DESCRIPTION:Come down to Blue Cross RiverRink Winterfest for a chance 
 to win UPFRONT tickets with a meet and greet to Q102’s Jingle Ball. 
 This sold out show is one of the hottest parties of the year, featurin
 g performances by Ariana Grande, Sam Smith, Iggy Azalea, OneRepublic, 
 Meghan Trainor, Jessie J, Nick Jonas, Rixton, Rita Ora, Shawn Mendes a
 nd Kiesza. Join Q102’s Nik the Web Chick at Blue Cross RiverRiver Wi
 nterfest on December 6th 5pm – 7pm for one of the only remaining cha
 nces to win tickets. While on site, lace up those skates and hit the i
 ce, or get a hot beverage and enjoy one of the many fire pits at Blue 
 Cross RiverRink Winterfest.\n\nFor more information visit http://phill
 ytodo.com/events/q102-jingle-ball-ticket-raid-at-blue-cross-riverrink-
 winterfest
DTSTART:20141206T220000Z
DTEND:20141207T000000Z
CATEGORIES:ice, skating, promotions, free, music, holidays
LOCATION:Blue Cross RiverRink
WEBSITE:http://www.delawareriverwaterfront.com/places/blue-cross-river
 rink
URL:http://www.delawareriverwaterfront.com/places/blue-cross-riverrink
CONTACT:215-925-RINK
ORGANIZER;CN="Delaware River Waterfront Corp.":http://phillytodo.com/p
 rofile/DelawareRiverWaterfrontCorp
ATTACH;FMTTYPE="image/jpeg":http://storage.ning.com/topology/rest/1.0/
 file/get/3054983994?profile=original
ATTENDEE;ROLE=REQ-PARTICIPANT;PARTSTAT=ACCEPTED;RSVP=TRUE;CN="Delaware
  River Waterfront Corp.":http://phillytodo.com/profile/DelawareRiverWa
 terfrontCorp
END:VEVENT
END:VCALENDAR
