BEGIN:VCALENDAR
PRODID:NingEventWidget-v1
VERSION:2.0
METHOD:PUBLISH
BEGIN:VEVENT
UID:4320450:Event:45093
DTSTAMP:20260425T123416Z
SUMMARY:Q&A With Teri Agins
DESCRIPTION:Join Teri Agins, veteran Wall Street Journal fashion journ
 alist, as she presents her new book, Hijacking The Runway. Her book de
 scribes the impact of celebrity culture in fashion and the relationshi
 ps celebrities have with designers. A Q&A led by the Philadelphia Inqu
 irer’s fashion writer, Elizabeth Wellington, will follow the present
 ation. Books will be available for purchase and autograph after the ev
 ent.\n\nFor more information visit http://phillytodo.com/events/q-a-wi
 th-teri-agins
DTSTART:20160420T220000Z
DTEND:20160421T000000Z
CATEGORIES:"q&a/presentation/book", signing
LOCATION:Moore College of Art & Design
WEBSITE:https://www.eventbrite.com/e/philadelphia-fashion-incubator-pr
 esents-teri-agins-hijacking-the-runway-tickets-23316627661?aff=utm_sou
 rce%3Deb_email%26utm_medium%3Demail%26utm_campaign%3Dnew_event_email&u
 tm_term=eventurl_text
URL:https://www.eventbrite.com/e/philadelphia-fashion-incubator-presen
 ts-teri-agins-hijacking-the-runway-tickets-23316627661?aff=utm_source%
 3Deb_email%26utm_medium%3Demail%26utm_campaign%3Dnew_event_email&utm_t
 erm=eventurl_text
CONTACT:215-627-1060
ORGANIZER;CN=CashmanAssoc:http://phillytodo.com/profile/CashmanAssoc
ATTACH;FMTTYPE="image/jpeg":
ATTENDEE;ROLE=REQ-PARTICIPANT;PARTSTAT=ACCEPTED;RSVP=TRUE;CN=CashmanAs
 soc:http://phillytodo.com/profile/CashmanAssoc
END:VEVENT
END:VCALENDAR
