BEGIN:VCALENDAR
PRODID:NingEventWidget-v1
VERSION:2.0
METHOD:PUBLISH
BEGIN:VEVENT
UID:4320450:Event:55927
DTSTAMP:20260425T112604Z
SUMMARY:Puppy Yoga
DESCRIPTION:Join us on Friday, September 7 for our special Puppy Yoga 
 event! Puppy Yoga: Yappy Hour Editions combines the fun of our classic
  yoga class, happy hour, and the opportunity to adopt some adorable pu
 ps!  Bring your yoga mat and enjoy a great class then check out the cu
 te puppers that the PSPCA has available to adopt!  Yoga class will tak
 e place from 6-7pm.  1100 Social will have some amazing appetizer and 
 drink specials for a post-class happy hour from 7-9pm.  A portion of t
 he ticket proceeds benefits the PSPCA. This is a 21+ event.\n\nFor mor
 e information visit http://phillytodo.com/events/puppy-yoga-4
DTSTART:20180907T220000Z
DTEND:20180908T010000Z
CATEGORIES:yoga, class
LOCATION:Xfinity Live! Philadelphia
WEBSITE:https://www.xfinitylive.com/entertainment/event/12404
URL:https://www.xfinitylive.com/entertainment/event/12404
CONTACT:
ORGANIZER;CN="XFINITY Live! Philadelphia":http://phillytodo.com/profil
 e/XFINITYLivePhiladelphia
ATTACH;FMTTYPE="image/jpeg":http://storage.ning.com/topology/rest/1.0/
 file/get/3055015067?profile=original
ATTENDEE;ROLE=REQ-PARTICIPANT;PARTSTAT=ACCEPTED;RSVP=TRUE;CN="XFINITY 
 Live! Philadelphia":http://phillytodo.com/profile/XFINITYLivePhiladelp
 hia
END:VEVENT
END:VCALENDAR
