BEGIN:VCALENDAR
PRODID:NingEventWidget-v1
VERSION:2.0
METHOD:PUBLISH
BEGIN:VEVENT
UID:4320450:Event:29634
DTSTAMP:20260425T142742Z
SUMMARY:Puppy Love Valentines Party
DESCRIPTION:SMOKIN’ BETTY’S AND DEVIL’S ALLEY HOST 6th PUPPY LOV
 E VALENTINES PARTY TO RAISE MONEY FOR PSPCA  \n \nPHILADELPHIA, PA 
 –  Smokin’ Betty’s and Devil’s Alley will host the 6th “Pup
 py Love Valentines Party,” on Tuesday, February  12, 2013 at the 23
 rd Street Armory (22 S. 23rd Street).  This popular Valentine’s the
 med bash returns to celebrate the one you truly love, your pooch.  Ar
 dent animal lovers and upscale comfort food fans will enjoy a night on
  the town with their dogs.  Evening highlights will include cocktails
 , appetizers by Smokin' Betty's and Devil’s Alley, sweet treats by M
 s. Goody Cupcake, silent auction items, live music, dancing, puppy pho
 to booth, red carpet, doggie swag bags and homeless pets available for
  adoption. Tickets are on sale now for $40 at http://tinyurl.com/bz84s
 rb. Puppy Love is open to those 21 and and recommended attire is dog p
 ark finest, ie. smart casual. ALL funds raised will be donated to the
  Pennsylvania Society for the Prevention of Cruelty to Animals (PSCPA)
 . For more information, call (215) 922-6500 or visit www.smokinbettys.
 com . \nTails will be wagging over the delicious lineup of comfort fo
 od presented by  Smokin’ Betty’s and Devil’s Alley, including C
 rab Cake Sliders, BBQ Chicken Salad Sliders, Mini Veggie Burgers and R
 oasted Red Pepper Hummus with Pita. At the bar, guests will enjoy Abso
 lut, Jameson and Malibu cocktails, craft beer from Brooklyn Brewery, Y
 ards Brewing Co. and Stoudts Brewery, and a selection of wine by the g
 lass.  All food and drink is included in the low-ticket price.  For 
 a perfect end to the night, Ms Goody Cupcake (1838 East Passyunk Avenu
 e) will tempt taste buds with Chocolate Covered Strawberry Cupcakes fo
 r humans and Banana Mutt Muffins for their four-legged friends. \nOth
 er evening highlights will include dancing and acoustic love songs by 
 Jon Hagen Band, 30+ silent auction items, a pet photo booth and doggie
  swag bags. Emmy winner and host of the soon to debut ‘Pets with Pap
 adakis,’ Maria Papadakis will serve as master of ceremonies and host
 ess of the doggie red carpet.\nFor those without a date, the PSPCA wil
 l match guests with eligible ‘bachelor and bachelorette’ dogs look
 ing for a home.  They will also present a Kitty Korner for those that
  prefer to flirt with feline adoptables. Finally, an animal behavioris
 t will provide consultations at a special “Dog House.”  \nAbout S
 mokin’ Betty’s  Smokin’ Betty’s offers upscale American comfor
 t food complimented by 16 rotating craft drafts, house crafted cocktai
 ls and daily menu additions paired with weekend brunch and daily happy
  hour. One of Philly’s favorite spots for burgers and BBQ ribs, Bett
 y’s strives to push the envelope of “comfort food” and preparing
  plates that would truly make your Mama proud. \nAbout  Devil’s All
 ey\nDevil’s Alley, located just off Rittenhouse Square, bridges the 
 gap between American comfort cuisine and a backyard barbecue, allowing
  for a delicious lunch, fun dinner or late night bite complimented by 
 liquors from around the world, eight seasonal local drafts and addicti
 ve signature cocktails.  Flames from the open kitchen sear classics f
 rom slow-smoked ribs to spice-rubbed ribeyes. Ingredients are of the h
 ighest quality, with local produce and high end meats.  Service is pr
 ompt, knowledgeable and fun with attention to every detail of the dini
 ng experience. \n                                  
             #   #   #\n \n \n \n \n \n\nFor more infor
 mation visit http://phillytodo.com/events/puppy-love-valentines-party
DTSTART:20130212T233000Z
DTEND:20130213T023000Z
CATEGORIES:benefit, party, night, out, fundraiser
LOCATION:23rd St. Armory
WEBSITE:http://www.yelp.com/biz/23rd-street-armory-philadelphia
URL:http://www.yelp.com/biz/23rd-street-armory-philadelphia
CONTACT:215-922-6500
ORGANIZER:Smokin' Betty's and Devil's Alley
ATTACH;FMTTYPE="image/jpeg":http://storage.ning.com/topology/rest/1.0/
 file/get/3054960774?profile=original
ATTENDEE;ROLE=REQ-PARTICIPANT;PARTSTAT=ACCEPTED;RSVP=TRUE;CN="Aversa P
 R & Events":http://phillytodo.com/profile/KoryAversa277
END:VEVENT
END:VCALENDAR
