BEGIN:VCALENDAR
PRODID:NingEventWidget-v1
VERSION:2.0
METHOD:PUBLISH
BEGIN:VEVENT
UID:4320450:Event:49214
DTSTAMP:20260425T162025Z
SUMMARY:Puppy Bowl Watch Party at Devil’s Den
DESCRIPTION:The cutest competition in sports history is back: #PuppyBo
 wl XIII airs Sunday, February 5th. Watch hometown hero/Refuge pup Max 
 on Animal Planet - or meet him at the Devil's Den Puppy Bowl Party fro
 m 2-5pm! We'll have the Puppy Bowl on TV too from 3-5pm. Enjoy Dogfish
  Head dog bowl specials (2 cans of 60 Minute IPA and 2 cans of Flesh &
  Blood IPA), Dogfish Head drafts, treats, and giveaways,  dog-themed 
 food specials (like hush puppies and hot dogs) - and get to shake paws
  with a star! Beer specials will run through the Super Bowl. Find out 
 more about the Puppy Bowl, see last year's highlights, meet the playe
 rs, and more at http://www.animalplanet.com/tv-shows/puppy-bowl/ Learn
  about the local dogs going to the Puppy Bowl at http://www.philly.com
 /philly/blogs/entertainment/television/Three-Philly-area-dogs-to-compe
 te-in-Animal-Planets-Puppy-Bowl.html  Time: Sunday, February  5th, 20
 17,  2:00pm - 5:00pm Location: Devil’s Den, 1148 S 11th St, Philade
 lphia, PA 19147\nABOUT THE MORRIS ANIMAL REFUGE Founded in 1874, the M
 orris Animal Refuge is America’s First Animal Shelter.  We are comm
 itted to adoption, education and high-quality care, and as an open-adm
 ission shelter, we have never turned an animal away. For more informat
 ion, please call (215)735-9570 or visit www.morrisanimalrefuge.org. \
 n\nFor more information visit http://phillytodo.com/events/puppy-bowl-
 watch-party-at-devil-s-den
DTSTART:20170205T190000Z
DTEND:20170205T220000Z
CATEGORIES:puppy, bowl, animal, shelter, drink, specials
LOCATION:Devil's Den
WEBSITE:http://www.devilsdenphilly.com/
URL:http://www.devilsdenphilly.com/
CONTACT:215-339-0855
ORGANIZER;CN="The Morris Animal Refuge":http://phillytodo.com/profile/
 TheMorrisAnimalRefuge
ATTACH;FMTTYPE="image/jpeg":http://storage.ning.com/topology/rest/1.0/
 file/get/3055002142?profile=original
ATTENDEE;ROLE=REQ-PARTICIPANT;PARTSTAT=ACCEPTED;RSVP=TRUE;CN="The Morr
 is Animal Refuge":http://phillytodo.com/profile/TheMorrisAnimalRefuge
END:VEVENT
END:VCALENDAR
