BEGIN:VCALENDAR
PRODID:NingEventWidget-v1
VERSION:2.0
METHOD:PUBLISH
BEGIN:VEVENT
UID:4320450:Event:2872
DTSTAMP:20260425T142806Z
SUMMARY:Pumpkinland Doggie Howl-o-ween Costume Contest
DESCRIPTION:Come join ThePhillyDog.com and South Street Association fo
 r our annual Doggie Costume Contest with prizes from Whole Foods! It's
  on Saturday, October 30th at 12:30 p.m. under the Shambles at Headhou
 se Square, located off of South Street at 2nd & Lombard Streets. We wi
 ll meet at ThePhillyDog.com table and then parade down to Passyunk Ave
 !\n\nFor more information visit http://phillytodo.com/events/pumpkinla
 nd-doggie-howloween
DTSTART:20101030T163000Z
DTEND:20101030T173000Z
CATEGORIES:doggie, halloween, costume, contest
LOCATION:Headhouse Square
WEBSITE:http://thephillydog.com
URL:http://thephillydog.com
CONTACT:
ORGANIZER;CN="The Philly Dog":http://phillytodo.com/profile/RebeccaBra
 glio
ATTACH;FMTTYPE="image/jpeg":http://storage.ning.com/topology/rest/1.0/
 file/get/3054950835?profile=original
ATTENDEE;ROLE=REQ-PARTICIPANT;PARTSTAT=ACCEPTED;RSVP=TRUE;CN="The Phil
 ly Dog":http://phillytodo.com/profile/RebeccaBraglio
END:VEVENT
END:VCALENDAR
