BEGIN:VCALENDAR
PRODID:NingEventWidget-v1
VERSION:2.0
METHOD:PUBLISH
BEGIN:VEVENT
UID:4320450:Event:2538
DTSTAMP:20260425T142541Z
SUMMARY:Pulse: Out to Move: A Mixing Light Workshop
DESCRIPTION:This summer, Michelle Oosterbaan, an abstract installation
  artist, worked with Mural Corps youth to create an indoor installatio
 n at PCAT. Students studied color theory, minimalism, and worked with 
 the Kun-Yang Lin Dancers to choreograph a dance piece in response to t
 he installation. Sponsored by the Pennsylvania Department of Community
  and Economic Development.\n\nFor more information visit http://philly
 todo.com/events/pulse-out-to-move-a-mixing
DTSTART:20101012T200000Z
DTEND:20101012T210000Z
CATEGORIES:mural, dedication
LOCATION:The Philadelphia Center for Arts and Technology (PCAT), 2111 
 East Burn Avenue
WEBSITE:
URL:
CONTACT:
ORGANIZER;CN="Jenn McCreary":http://phillytodo.com/profile/JennMcCrear
 y
ATTACH;FMTTYPE="image/jpeg":
ATTENDEE;ROLE=REQ-PARTICIPANT;PARTSTAT=ACCEPTED;RSVP=TRUE;CN="Jenn McC
 reary":http://phillytodo.com/profile/JennMcCreary
END:VEVENT
END:VCALENDAR
