BEGIN:VCALENDAR
PRODID:NingEventWidget-v1
VERSION:2.0
METHOD:PUBLISH
BEGIN:VEVENT
UID:4320450:Event:23147
DTSTAMP:20260425T160941Z
SUMMARY:Protecting Kids from dangers of the internet
DESCRIPTION:The free event, co-sponsored by Comcast, the Bucks County 
 District Attorney's Office, The Intelligencer, Bucks County Courier Ti
 mes, Calkins Media Inc andphillyburbs.com, will feature a panel of cyb
 er safety experts and law enforcment officials as well as representati
 ves from the Network of Victim Assistance of Bucks County.\nThe expert
 s will offer tips on keeping kids safe, as well as information to help
  families avoid the ever-changing scams targeting online consumers.\nT
 he Bucks County Intermediate Unit will provide school and community ou
 treach in support of the event, and Tracy Davidson, NBC10 news anchor 
 and consumer reporter, will host and moderate. It will be held at 7 p.
 m. Jan. 19 at Bucks County Community College's main auditorium.\nBucks
  County Community College is at 275 Swamp Road in Newtown Township\n\n
 For more information visit http://phillytodo.com/events/protecting-kid
 s-from-dangers-of-the-internet
DTSTART:20120120T000000Z
DTEND:20120120T010000Z
CATEGORIES:free, open, forum
LOCATION:Bucks County Community College's Main Auditorium
WEBSITE:http://www.phillyBurbs.com/internetsafety
URL:http://www.phillyBurbs.com/internetsafety
CONTACT:215-694-7489
ORGANIZER:Laurie Mason Schroeder
ATTACH;FMTTYPE="image/jpeg":http://storage.ning.com/topology/rest/1.0/
 file/get/3054958344?profile=original
ATTENDEE;ROLE=REQ-PARTICIPANT;PARTSTAT=ACCEPTED;RSVP=TRUE;CN="Lauren W
 enzel":http://phillytodo.com/profile/JacklinRhoads
END:VEVENT
END:VCALENDAR
