BEGIN:VCALENDAR
PRODID:NingEventWidget-v1
VERSION:2.0
METHOD:PUBLISH
BEGIN:VEVENT
UID:4320450:Event:29525
DTSTAMP:20260425T160915Z
SUMMARY:Prom Queen GayBINGO!
DESCRIPTION:We all know it's just a stupid popularity contest! This fu
 n event is open to anyone who enjoys campy humor. Cash prizes will be 
 awarded in each game.  Tickets for GayBINGO are on sale at 215-731-92
 55.  Reserved Seating tickets on the Bingo floor are $25. General adm
 ission tickets in the balcony are $20.  The AIDS Fund grant program su
 pports organizations in the Philadelphia Region that provide AIDS and 
 HIV-related services, education, and prevention including increasing p
 ublic awareness of HIV/AIDS issues.\n\nFor more information visit http
 ://phillytodo.com/events/prom-queen-gaybingo
DTSTART:20130511T220000Z
DTEND:20130512T010000Z
CATEGORIES:bingo, fundraiser, lgbt
LOCATION:The Gershman Y
WEBSITE:http://www.aidsfundphilly.org
URL:http://www.aidsfundphilly.org
CONTACT:215-731-9255
ORGANIZER;CN="Cari Feiler Bender":http://phillytodo.com/profile/CariFe
 ilerBender
ATTACH;FMTTYPE="image/jpeg":http://storage.ning.com/topology/rest/1.0/
 file/get/3054961020?profile=original
ATTENDEE;ROLE=REQ-PARTICIPANT;PARTSTAT=ACCEPTED;RSVP=TRUE;CN="Cari Fei
 ler Bender":http://phillytodo.com/profile/CariFeilerBender
END:VEVENT
END:VCALENDAR
