BEGIN:VCALENDAR
PRODID:NingEventWidget-v1
VERSION:2.0
METHOD:PUBLISH
BEGIN:VEVENT
UID:4320450:Event:36860
DTSTAMP:20260425T173514Z
SUMMARY:Project Gravitas Pop-Up Shop
DESCRIPTION:For the first time ever in Philadelphia, shop the Project 
 Gravitas dress collection that empowers through luxury tailoring made 
 in NYC, Italian fabrics, and a hidden shapewear secret.  Don’t miss
  this exclusive opportunity to get a personalized fitting with the Pro
 ject Gravitas team and find your perfect dress. Attendees will receive
  $25 off of their order and a portion of the sales will benefit Dress 
 for Success! Shoppers are encouraged to RSVP in advance to rsvp@cashma
 nandassociates.com or to 215.627.1082 x 107. Learn more about Project 
 Gravitas on the web at www.projectgravitas.com. #GravitasPhilly\n\n\nF
 or more information visit http://phillytodo.com/events/project-gravita
 s-pop-up-shop
DTSTART:20140605T150000Z
DTEND:20140605T230000Z
CATEGORIES:shopping
LOCATION:ICON
WEBSITE:
URL:
CONTACT:
ORGANIZER:Project Gravitas
ATTACH;FMTTYPE="image/jpeg":
ATTENDEE;ROLE=REQ-PARTICIPANT;PARTSTAT=ACCEPTED;RSVP=TRUE;CN=CashmanAs
 soc:http://phillytodo.com/profile/CashmanAssoc
END:VEVENT
END:VCALENDAR
