BEGIN:VCALENDAR
PRODID:NingEventWidget-v1
VERSION:2.0
METHOD:PUBLISH
BEGIN:VEVENT
UID:4320450:Event:28601
DTSTAMP:20260425T144246Z
SUMMARY:Prohibition Cocktail Tour
DESCRIPTION:The Prohibition Cocktail Tour promises to entertain guests
  with a snapshot of what it was like to be a thirsty Philadelphian try
 ing to score a drink in Prohibition-era Philly.  The cocktails were c
 arefully selected for their authenticity, but more importantly, their 
 rarity in today's bar scene.  The Prohibition Cocktail Tour takes pla
 ce from 4:30 to 7pm on the 2nd and 4th Saturday of every month startin
 g November 10, 2012. Advance reservations are required and can be made
  online by visiting www.cityfoodtours.com or by calling 800 979 3370. 
 Tickets are 55$ per person.\n\nFor more information visit http://phill
 ytodo.com/events/prohibition-cocktail-tour
DTSTART:20121110T213000Z
DTEND:20121111T000000Z
CATEGORIES:tour
LOCATION:Reading Terminal Market
WEBSITE:http://cityfoodtours.com
URL:http://cityfoodtours.com
CONTACT:
ORGANIZER;CN="Robert Weinberg":http://phillytodo.com/profile/RobertWei
 nberg
ATTACH;FMTTYPE="image/jpeg":http://storage.ning.com/topology/rest/1.0/
 file/get/3054958436?profile=original
ATTENDEE;ROLE=REQ-PARTICIPANT;PARTSTAT=ACCEPTED;RSVP=TRUE;CN="Robert W
 einberg":http://phillytodo.com/profile/RobertWeinberg
END:VEVENT
END:VCALENDAR
