BEGIN:VCALENDAR
PRODID:NingEventWidget-v1
VERSION:2.0
METHOD:PUBLISH
BEGIN:VEVENT
UID:4320450:Event:18604
DTSTAMP:20260425T160212Z
SUMMARY:Professional Singles Speed Dating
DESCRIPTION:Come out and play this Wednesday, September 28th, with Spe
 ed Date Philadelphia! Join us at Tavern 222 and connect with outgoing,
  adventuresome singles 24 – 37 eager to meet new people like yoursel
 f!  While indulging in complimentary appetizers and drink specials, y
 ou will go on a series of “mini” dates with eight or more individu
 als in this laidback, private setting.  Satisfaction guaranteed, or y
 our next event is on us! For more information, visit our website and r
 egister for this and future events!\n\nFor more information visit http
 ://phillytodo.com/events/professional-singles-speed-dating
DTSTART:20110928T230000Z
DTEND:20110929T010000Z
CATEGORIES:speed, dating, event
LOCATION:Tavern 222
WEBSITE:http://www.speeddatephiladelphia.com/main/index.php?ap=mng_cou
 pon&id=4894
URL:http://www.speeddatephiladelphia.com/main/index.php?ap=mng_coupon&
 id=4894
CONTACT:
ORGANIZER:Speed Date Philadelphia
ATTACH;FMTTYPE="image/jpeg":http://storage.ning.com/topology/rest/1.0/
 file/get/3054954784?profile=original
ATTENDEE;ROLE=REQ-PARTICIPANT;PARTSTAT=ACCEPTED;RSVP=TRUE;CN="Rachel L
 owe":http://phillytodo.com/profile/RachelLowe
END:VEVENT
END:VCALENDAR
