BEGIN:VCALENDAR
PRODID:NingEventWidget-v1
VERSION:2.0
METHOD:PUBLISH
BEGIN:VEVENT
UID:4320450:Event:38326
DTSTAMP:20260425T142539Z
SUMMARY:Process & Progress: A LandLab Gallery Show
DESCRIPTION:Check in with our LandLab artists midway through their r
 esidencies. This gallery show will feature information about their art
 istic process, past work from the artists that reveals the trajectory 
 of their practice in environmental art, and completed LandLab work.\nL
 andLab is an environmental art residency program that integrates art a
 nd ecological restoration.\nCome earlier in the day for University of
  Nature and enjoy a whole day of in-depth learning, then relax at the
  opening reception.\n\nFor more information visit http://phillytodo.co
 m/events/process-progress-a-landlab-gallery-show
DTSTART:20140927T200000Z
DTEND:20140927T220000Z
CATEGORIES:gallery, opening
LOCATION:Schuylkill Center for Environmental Education
WEBSITE:
URL:
CONTACT:215-482-7300
ORGANIZER;CN="The Schuylkill Center":http://phillytodo.com/profile/Ann
 aLehrMueser
ATTACH;FMTTYPE="image/jpeg":http://storage.ning.com/topology/rest/1.0/
 file/get/3054979745?profile=original
ATTENDEE;ROLE=REQ-PARTICIPANT;PARTSTAT=ACCEPTED;RSVP=TRUE;CN="The Schu
 ylkill Center":http://phillytodo.com/profile/AnnaLehrMueser
END:VEVENT
END:VCALENDAR
