BEGIN:VCALENDAR
PRODID:NingEventWidget-v1
VERSION:2.0
METHOD:PUBLISH
BEGIN:VEVENT
UID:4320450:Event:36690
DTSTAMP:20260425T145001Z
SUMMARY:PrideDay 2014: 26th Annual Philadelphia LGBT Parade and Festiv
 al
DESCRIPTION:The LGBT Pride Festival at Penn's Landing marks the ending
  point for the LGBT Pride Parade, and the beginning of six hours of en
 tertainment. Philly Pride presents festival with over 140 community gr
 oups and vendors, free health screenings, a dance area, a family zone,
  food, adult beverages, a dunk tank, fun and games.\n\nFor more inform
 ation visit http://phillytodo.com/events/prideday-2014-26th-annual-phi
 ladelphia-lgbt-parade-and-festival
DTSTART:20140608T160000Z
DTEND:20140608T220000Z
CATEGORIES:festival, waterfront, lgbt
LOCATION:Great Plaza at Penn's Landing
WEBSITE:http://www.delawareriverwaterfront.com/events/philly-pride-fes
 tival
URL:http://www.delawareriverwaterfront.com/events/philly-pride-festiva
 l
CONTACT:215-922-2386
ORGANIZER;CN="Delaware River Waterfront Corp.":http://phillytodo.com/p
 rofile/DelawareRiverWaterfrontCorp
ATTACH;FMTTYPE="image/jpeg":http://storage.ning.com/topology/rest/1.0/
 file/get/3054973877?profile=original
ATTENDEE;ROLE=REQ-PARTICIPANT;PARTSTAT=ACCEPTED;RSVP=TRUE;CN="Delaware
  River Waterfront Corp.":http://phillytodo.com/profile/DelawareRiverWa
 terfrontCorp
END:VEVENT
END:VCALENDAR
