BEGIN:VCALENDAR
PRODID:NingEventWidget-v1
VERSION:2.0
METHOD:PUBLISH
BEGIN:VEVENT
UID:4320450:Event:31412
DTSTAMP:20260425T160809Z
SUMMARY:PRG East Falls Grand Opening
DESCRIPTION:PRG East Falls will open to the public for the Grand Openi
 ng celebration on Saturday, March 30th from 10 am to 8 pm. Regular gym
  hours will begin on March 31st.  Gym hours will be Monday thru Frida
 y from 12 pm to 10 pm and weekends from 10 am to 8 pm.  \n\nWith rope
 d areas for beginning climbers and children as well as boulders of var
 ying heights and overhangs, PRG East Falls is great for first time cli
 mbers and long timers alike.\n\n\nFor more information visit http://ph
 illytodo.com/events/prg-east-falls-grand-opening
DTSTART:20130330T140000Z
DTEND:20130331T000000Z
CATEGORIES:grand, opening
LOCATION:PRG East Falls
WEBSITE:http://www.philarockgym.com/PRG-eastfalls.php
URL:http://www.philarockgym.com/PRG-eastfalls.php
CONTACT:610/666-7673
ORGANIZER:David Rowland
ATTACH;FMTTYPE="image/jpeg":http://storage.ning.com/topology/rest/1.0/
 file/get/3054965081?profile=original
ATTENDEE;ROLE=REQ-PARTICIPANT;PARTSTAT=ACCEPTED;RSVP=TRUE;CN="Laura Mi
 ller":http://phillytodo.com/profile/LauraMiller
END:VEVENT
END:VCALENDAR
