BEGIN:VCALENDAR
PRODID:NingEventWidget-v1
VERSION:2.0
METHOD:PUBLISH
BEGIN:VEVENT
UID:4320450:Event:31701
DTSTAMP:20260425T175133Z
SUMMARY:Preschool Playschool
DESCRIPTION:Join us for half play, half school and a WHOLE lot of fun!
 \n \nEach week we explore a variety of themes and ideas to make learn
 ing fun!\n\nFor more information visit http://phillytodo.com/events/pr
 eschool-playschool
DTSTART:20130415T143000Z
DTEND:20130415T160000Z
CATEGORIES:children, preschool
LOCATION:Landowne Public Library
WEBSITE:http://lansdownepubliclibrary.com/
URL:http://lansdownepubliclibrary.com/
CONTACT:610-623-0239
ORGANIZER;CN="Lansdowne Public Library":http://phillytodo.com/profile/
 LansdownePublicLibrary
ATTACH;FMTTYPE="image/jpeg":http://storage.ning.com/topology/rest/1.0/
 file/get/3054963226?profile=original
ATTENDEE;ROLE=REQ-PARTICIPANT;PARTSTAT=ACCEPTED;RSVP=TRUE;CN="Lansdown
 e Public Library":http://phillytodo.com/profile/LansdownePublicLibrary
END:VEVENT
END:VCALENDAR
