BEGIN:VCALENDAR
PRODID:NingEventWidget-v1
VERSION:2.0
METHOD:PUBLISH
BEGIN:VEVENT
UID:4320450:Event:39709
DTSTAMP:20260425T161732Z
SUMMARY:Premier Beer Tasting Party
DESCRIPTION:Forgotten Boardwalk, South Jersey’s newest craft brewery
 , is hosting a beer tasting at The Continental Atlantic City. $29 gets
  a ticket to the tasting with four beers on tap and passed hors d’oe
 uvres. This tasting is a great opportunity for beer enthusiasts to tas
 te a gamut of flavors AND bites from the chef at The Continental AC. W
 in win!\nThere’s limited availability so craft beer lovers down the 
 shore can call the restaurant at 609-674-8300 to reserve a spot.\n\n
 For more information visit http://phillytodo.com/events/premier-beer-t
 asting-party
DTSTART:20150124T000000Z
DTEND:20150124T060000Z
CATEGORIES:beer, tasting
LOCATION:The Continental at Pier Shops Caesars
WEBSITE:
URL:
CONTACT:
ORGANIZER;CN=CashmanAssoc:http://phillytodo.com/profile/CashmanAssoc
ATTACH;FMTTYPE="image/jpeg":http://storage.ning.com/topology/rest/1.0/
 file/get/3054982818?profile=original
ATTENDEE;ROLE=REQ-PARTICIPANT;PARTSTAT=ACCEPTED;RSVP=TRUE;CN=CashmanAs
 soc:http://phillytodo.com/profile/CashmanAssoc
END:VEVENT
END:VCALENDAR
