BEGIN:VCALENDAR
PRODID:NingEventWidget-v1
VERSION:2.0
METHOD:PUBLISH
BEGIN:VEVENT
UID:4320450:Event:9405
DTSTAMP:20260425T173640Z
SUMMARY:Preakness Horse Race Bus Trip - Featuring Mr Greengenes!
DESCRIPTION:A great action-packed, fun day bus trip here everyone!  E
 verything is included for one low price.  Go to the 136th Preakness 
 Stakes horse race just outside of Baltimore and have a blast sunnin
 g yourself, beverage in hand, all day long while watching the horse 
 races and listening to live music from multiple national acts and Phil
 ly's Own - Mr. Greengenes! \nOver the years, over 750 people travele
 d with us on this trip - do not miss out, this is a fun one!  4 Buses
  Heading Down - Get on!\n\nFor more information visit http://phillytod
 o.com/events/preakness-horse-race-bus-trip
DTSTART:20110521T120000Z
DTEND:20110521T230000Z
CATEGORIES:sporting, event
LOCATION:PhillyTrips.com
WEBSITE:http://www.UpcomingEvents.com/event/7009/todo/
URL:http://www.UpcomingEvents.com/event/7009/todo/
CONTACT:
ORGANIZER;CN="UpcomingEvents.com":http://phillytodo.com/profile/Upcomi
 ngEventscom
ATTACH;FMTTYPE="image/jpeg":http://storage.ning.com/topology/rest/1.0/
 file/get/3054954347?profile=original
ATTENDEE;ROLE=REQ-PARTICIPANT;PARTSTAT=ACCEPTED;RSVP=TRUE;CN="Upcoming
 Events.com":http://phillytodo.com/profile/UpcomingEventscom
END:VEVENT
END:VCALENDAR
